BEGIN:VCALENDAR
VERSION:2.0
PRODID:-//wp-events-plugin.com//7.2.3.1//EN
BEGIN:VEVENT
UID:715@etxbrew.com
DTSTART:20260502T110000Z
DTEND:20260502T140000Z
DTSTAMP:20260101T211755Z
URL:https://etxbrew.com/events/brunch-at-etx-brewing-co-2026-01-03-2026-01
 -04-2026-01-10-2026-01-11-2026-01-17-2026-01-18-2026-01-24-2026-01-25-2026
 -01-31-2026-02-01-2026-02-07-2026-02-08-2026-02-14-2026-02-15-2026-02-26-2
 026-05-02/
SUMMARY:Brunch at ETX Brewing Co.
DESCRIPTION:Join us for a delightful new experience as we open our doors on
  Saturdays and Sundays at 11 am and enjoy our fresh brunch menu from 11 am
  to 2 pm. Savor a delectable brunch spread &amp\; NEW drink options that a
 re sure to satisfy your cravings.\n\nWe are open ALL DAY Saturday (11a - 1
 1p) and Sunday (11a - 8p)
ATTACH;FMTTYPE=image/jpeg:https://i0.wp.com/etxbrew.com/wp-content/uploads
 /2023/09/brunch-updated-2.png?fit=1920%2C1005&ssl=1
CATEGORIES:Brunch
LOCATION:etx brewing co\, 221 S. Broadway Ave\, Tyler\, Texas\, 75702\, Uni
 ted States
X-APPLE-STRUCTURED-LOCATION;VALUE=URI;X-ADDRESS=221 S. Broadway Ave\, Tyler
 \, Texas\, 75702\, United States;X-APPLE-RADIUS=100;X-TITLE=etx brewing co
 :geo:0,0
END:VEVENT
END:VCALENDAR