BEGIN:VCALENDAR
VERSION:2.0
PRODID:-//wp-events-plugin.com//7.2.3.1//EN
BEGIN:VEVENT
UID:625@etxbrew.com
DTSTART;VALUE=DATE:20250927
DTEND;VALUE=DATE:20250928
DTSTAMP:20250804T182143Z
URL:https://etxbrew.com/events/oktoberfest-etx-brewing-co/
SUMMARY:Oktoberfest @ ETX Brewing Co.
DESCRIPTION: OKTOBERFEST at ETX Brewing Co!  Saturday\, September 27th\,
  2025 Downtown Tyler\, TX\nBreak out the Lederhosen\, dust off that Dirnd
 l\, and get ready to do the Chicken Dance — it’s time for our biggest 
 fall party of the year!\nJoin us for a day packed with German-themed fun f
 or ALL ages\, including: Authentic German Food &amp\; Beer DJ &amp\;  
 LIVE Music Stein Hoist Competition The (in)famous Brat Toss Family-frie
 ndly Games &amp\; Activities\nWhether you're coming for the brews\, the bi
 tes\, or the bratwurst-throwing glory — you don't want to miss this!\nPr
 ost\, y’all! 
ATTACH;FMTTYPE=image/jpeg:https://i0.wp.com/etxbrew.com/wp-content/uploads
 /2025/08/okt-1.png?fit=1200%2C628&ssl=1
CATEGORIES:Community Fun,Live Music
LOCATION:etx brewing co\, 221 S. Broadway Ave\, Tyler\, Texas\, 75702\, Uni
 ted States
X-APPLE-STRUCTURED-LOCATION;VALUE=URI;X-ADDRESS=221 S. Broadway Ave\, Tyler
 \, Texas\, 75702\, United States;X-APPLE-RADIUS=100;X-TITLE=etx brewing co
 :geo:0,0
END:VEVENT
END:VCALENDAR