BEGIN:VCALENDAR
VERSION:2.0
PRODID:-//wp-events-plugin.com//7.2.3.1//EN
BEGIN:VEVENT
UID:645@etxbrew.com
DTSTART:20260429T190000Z
DTEND:20260429T200000Z
DTSTAMP:20260101T211703Z
URL:https://etxbrew.com/events/trivia-night-at-etx-brewing-co-2026-01-07-2
 026-01-14-2026-01-21-2026-01-28-2026-02-04-2026-02-11-2026-02-18-2026-02-2
 5-2026-03-04-2026-03-11-2026-03-18-2026-03-25-2026-04-01-2026-04-08-2-22-2
 026-04-29/
SUMMARY:Trivia Night at ETX Brewing Co
DESCRIPTION:Trivia Night at ETX Brewing Co. with Dr. Factenstein - Every We
 dnesday 7:00-8:00. No cost! Super Fun!\nETX Brewing Co.221 S. BroadwayDown
 town Tyler
ATTACH;FMTTYPE=image/jpeg:https://i0.wp.com/etxbrew.com/wp-content/uploads
 /2023/05/328259900_744316366887156_7472232328154477655_n-1.jpg?fit=1037%2C
 545&ssl=1
CATEGORIES:Trivia
LOCATION:etx brewing co\, 221 S. Broadway Ave\, Tyler\, Texas\, 75702\, Uni
 ted States
X-APPLE-STRUCTURED-LOCATION;VALUE=URI;X-ADDRESS=221 S. Broadway Ave\, Tyler
 \, Texas\, 75702\, United States;X-APPLE-RADIUS=100;X-TITLE=etx brewing co
 :geo:0,0
END:VEVENT
END:VCALENDAR